BEGIN:VCALENDAR
VERSION:2.0
PRODID:icalendar-ruby
CALSCALE:GREGORIAN
METHOD:PUBLISH
BEGIN:VEVENT
DTSTAMP:20260421T182924Z
UID:6-282937@winslowumc.org
DTSTART:20261018T130000Z
DTEND:20261018T140000Z
CLASS:PUBLIC
CREATED:20260421T134424
DESCRIPTION:
LAST-MODIFIED:20260421T134424
LOCATION:
SUMMARY:Worship Service
URL;VALUE=URI:https://winslowumc.org/events/worship-service--6/2026-10-18
ATTACH;FILENAME=Winslow-UMC-sign-message-Feb-21-2026.JPG;FMTTYPE=image/jpeg
 :https://dq5pwpg1q8ru0.cloudfront.net/2026/02/24/23/08/07/cc356ecb-3dc5-46
 ee-9658-4244ad7eaab6/Winslow-UMC-sign-message-Feb-21-2026.JPG
END:VEVENT
END:VCALENDAR
